BEGIN:VCALENDAR
VERSION:2.0
PRODID:-//wp-events-plugin.com//7.2.3.1//EN
TZID:Europe/Berlin
X-WR-TIMEZONE:Europe/Berlin
BEGIN:VEVENT
UID:909@setdance.me
DTSTART;TZID=Europe/Berlin;VALUE=DATE:20260410
DTEND;TZID=Europe/Berlin;VALUE=DATE:20260413
DTSTAMP:20260315T123453Z
URL:https://setdance.me/events/irish-weekend-am-bodensee/
SUMMARY:Irish Weekend am Bodensee
DESCRIPTION:Ein weiteres Irish Set Dance Weekend mit Workshop\, vier Céili
 the und Musiksessions organisiert von Sönke Speck.\n\n 	Workshop mit der 
 wunderbaren Maureen Culleton\n 	Céilithe mit der Rhine Valley Ceili Band 
 und dem Duo Ger Murphy &amp\; Uli\n\nNäheres direkt über Sönke Speck: s
 oenke_norge@web.de\n\n
ATTACH;FMTTYPE=image/jpeg:https://setdance.me/wp-content/uploads/2026/02/B
 odensee-Workshop.webp
LOCATION:Balingen - Haus der Volkskunst\, Haus der Volkskunst\, Ebinger Str
 aße 52-56\, Balingen\, Baden-Württemberg\, 72336\, Deutschland
X-APPLE-STRUCTURED-LOCATION;VALUE=URI;X-ADDRESS=Haus der Volkskunst\, Ebing
 er Straße 52-56\, Balingen\, Baden-Württemberg\, 72336\, Deutschland;X-A
 PPLE-RADIUS=100;X-TITLE=Balingen - Haus der Volkskunst:geo:0,0
END:VEVENT
BEGIN:VTIMEZONE
TZID:Europe/Berlin
X-LIC-LOCATION:Europe/Berlin
BEGIN:DAYLIGHT
DTSTART:20260329T030000
TZOFFSETFROM:+0100
TZOFFSETTO:+0200
TZNAME:CEST
END:DAYLIGHT
END:VTIMEZONE
END:VCALENDAR